Workbook

Sheet Calculations
F2: 3D scan setup calculation for CoaxLink Quad 3D-LLE
B4: INPUTS | F4: OUTPUTS
B5: Camera parameters | C5: unit | D5: input values | F5: Acquisition constraints | H5: unit | I5: calculated values
B6: Model | D6: Adimec Q 12A180 | G6: Min ROI height | H6: pixels | I6: =(D19*1000)/I21 -> 98.179852 | J6: Depends on object height and setup geometry
B7: Resolution, width | C7: pixels | D7: =VLOOKUP($D$6,Cameras!$A$2:$E$99,2,FALSE) -> 4096 | G7: Max ROI acquisition rate | H7: hz | I7: =$D$10*$D$8/$D$23 -> 2872.32 | J7: From camera capabilities, also limited by bandwidth and exposure time | Q7: maximum camera frame-rate
B8: Resolution, height | C8: pixels | D8: =VLOOKUP($D$6,Cameras!$A$2:$E$99,3,FALSE) -> 3072 | G8: Effective acquisition rate | H8: hz | I8: =D27*D24 -> 420 | J8: Depends on conveyor speed and trigger steps
B9: Pixel size | C9: µm | D9: =VLOOKUP($D$6,Cameras!$A$2:$E$99,4,FALSE) -> 5.5 | G9: Maximum exposure time | H9: µs | I9: =1000000/I8 -> 2380.9524 | J9: Depends on effective acquisition rate
B10: Full frame acquisition rate | C10: hz | D10: =VLOOKUP($D$6,Cameras!$A$2:$E$99,5,FALSE) -> 187
B11: Lens focal length | C11: mm | D11: 50 | F11: Resulting optical configuration | H11: unit | I11: calculated values
B12: Lens f/# | D12: 3 | G12: Working distance | H12: mm | I12: =D18/COS(RADIANS(D16)) -> 352.18366 | J12: Distance between the lens and the object
G13: Image to obj. magnification | H13: factor | I13: =-(D11-I12)/D11 -> 6.0436733 | J13: Magnification (object size / image size)
G14: Horizontal FoV | H14: mm | I14: =D7*D9/1000*I13 -> 136.15187 | J14: Horizontal field of view (in X direction)
B15: Geometry parameters | C15: unit | D15: input values | G15: Minimum depth of field | H15: mm | I15: =D19/2*COS(RADIANS(D16-D17))/COS(RADIANS(D17))*2 -> 3.8893096 | J15: for the given object height and setup configuration
B16: Camera angle | C16: deg | D16: 30 | G16: depth of field | H16: mm | I16: =2*(D12*D9*0.001*1.5*(1/I13+1)/(1/I13*1/I13-D12*D9*0.001*1.5*D12*D9*0.001*1.5/(D11*D11))) -> 2.107217 | J16: Focus range
B17: Laser angle | C17: deg | D17: -10
B18: Camera height | C18: mm | D18: 305 | F18: Resulting Depth Map resolutions | H18: unit | I18: calculated values
B19: Object height | C19: mm | D19: 5 | G19: Horizontal sampling (X) | H19: µm | I19: =I14/D7*1000 -> 33.240203 | J19: The distance represented on the object surface between 2 pixels
G20: Vertical sampling (Y) | H20: µm | I20: =1000/D24 -> 47.619048 | J20: The distance represented on the object surface between 2 pixels
B21: Acquisition parameters | C21: unit | D21: input values | G21: Height resolution (Z) | H21: µm | I21: =D9/1000*I13/SIN(RADIANS(D16-D17))*COS(RADIANS(D17))*1000 -> 50.926946 | J21: height corresponding to the vertical distance between 2 pixels in the profile image
B22: Line extraction method | D22: CenterOfGravity11.5 | G22: Height subpixel resolution (Z) | H22: µm | I22: =I21/POWER(2,VLOOKUP(D22,DetectionMethods!$A$2:$D$99,3,FALSE)) -> 1.5914671 | J22: theorical height represented by a change of one gray value of the depthmap (=subpixel of the profile image)
B23: Effective ROI height | C23: pixels | D23: 200
B24: Triggers per mm (encoder) | D24: 21 | G24: Legend | I24: output values
I25: out of limits values
B26: Motion parameters | C26: unit | D26: input values
B27: Conveyor speed | C27: mm/s | D27: 20
B29: Legend | D29: Input parameters
D30: calculated parameters
D31: Incorrect parameters
B33: remarks:
B34: 1 | C34: the camera angle is between 0 and 90deg; the angle is positive in the counterclockwise direction
B35: 2 | C35: the projector angle is between -90deg and 90deg; the angle is positive in the counterclockwise direction
C36: The laser plane is defined as the plane containing the projector and the projected line
B37: 3 | C37: The value of the projector angle is assumed to be smaller than the camera angle value
B38: 4 | C38: The green arrow ("scan direction" on the picture) indicates the positive direction of the scan
C39: - if the scan moves in the positive direction, one has to set the origin of the axis system at the lower-left corner of the depthmap:
C40: depthmap.SetAxisSystemType(EAxisSystemType_CornerLowerLeft);
C41: - if the scan moves in the opposite direction, one has to set the origin of the axis system at the upper-left corner of the depthmap:
C42: depthmap.SetAxisSystemType(EAxisSystemType_CornerUpperLeft);
B43: 5 | C43: The reference plane (on the picture) is an horizontal plane located at the intersection between the center of the field of view and the laser plane
C44: We assume that the lens has been focused on this point. The camera height is the height of the center of the lens with respect to the reference plane.
...

Sheet Cameras
A1: Camera name | B1: Width | C1: Height | D1: pixel size | E1: max. rate
A2: Adimec Q 12A180 | B2: 4096 | C2: 3072 | D2: 5.5 | E2: 187
A3: JAI SP-12000-CXP4 | B3: 4096 | C3: 3072 | D3: 5.5 | E3: 189
A4: Mikrotron EoSens 4CXP | B4: 2336 | C4: 1728 | D4: 7 | E4: 563

Sheet DetectionMethods
A1: Detection method | B1: base | C1: precision | D1: max. lines
A2: MaxDetection8 | B2: 8 | C2: 0 | D2: =POWER(2,B2) -> 256
A3: MaxDetection16 | B3: 16 | C3: 0 | D3: =POWER(2,B3) -> 65536
A4: PeakDetection11.5 | B4: 11 | C4: 5 | D4: =POWER(2,B4) -> 2048
A5: PeakDetection8.8 | B5: 8 | C5: 8 | D5: =POWER(2,B5) -> 256
A6: CenterOfGravity11.5 | B6: 11 | C6: 5 | D6: =POWER(2,B6) -> 2048
A7: CenterOfGravity8.8 | B7: 8 | C7: 8 | D7: =POWER(2,B7) -> 256
